BEGIN:VCALENDAR
VERSION:2.0
PRODID:icalendar-ruby
CALSCALE:GREGORIAN
METHOD:PUBLISH
BEGIN:VEVENT
DTSTAMP:20260421T031732Z
UID:9-1086881@lwtriumphchurch.com
DTSTART:20260927T153000Z
DTEND:20260927T170000Z
CLASS:PUBLIC
CREATED:20260420T194432
DESCRIPTION:
LAST-MODIFIED:20260420T194432
LOCATION:1105 Lawrence St. Rosenberg\, Texas 77471
SUMMARY:Sunday Morning Worship
URL;VALUE=URI:https://www.lwtriumphchurch.com/events/sunday-morning-worship
 /2026-09-27
ATTACH;FILENAME=Untitled-design-%284%29.png;FMTTYPE=image/png:https://dq5pw
 pg1q8ru0.cloudfront.net/2025/02/12/16/51/42/40dd8300-a0d5-47ca-b1cc-ce2a2d
 5402e4/Untitled-design-%25284%2529.png
END:VEVENT
END:VCALENDAR
