BEGIN:VCALENDAR
VERSION:2.0
PRODID:icalendar-ruby
CALSCALE:GREGORIAN
METHOD:PUBLISH
BEGIN:VEVENT
DTSTAMP:20260421T021535Z
UID:14-1087158@lwtriumphchurch.com
DTSTART:20260918T003000Z
DTEND:20260918T021500Z
CLASS:PUBLIC
CREATED:20260420T194432
DESCRIPTION:Join us for every mid-week service Thursday at 7:30 PM. \n 
LAST-MODIFIED:20260420T194432
LOCATION:1105 Lawrence St. Rosenberg\, Texas 77471
SUMMARY:Triumph Thursday 
URL;VALUE=URI:https://www.lwtriumphchurch.com/events/triumph-thursday--14/2
 026-09-17
ATTACH;FILENAME=Untitled-design-%285%29.png;FMTTYPE=image/png:https://dq5pw
 pg1q8ru0.cloudfront.net/2025/02/12/16/52/50/5384049c-0720-4909-af13-b67527
 0148fa/Untitled-design-%25285%2529.png
END:VEVENT
END:VCALENDAR
