BEGIN:VCALENDAR
VERSION:2.0
PRODID:icalendar-ruby
CALSCALE:GREGORIAN
METHOD:PUBLISH
BEGIN:VEVENT
DTSTAMP:20260425T124947Z
UID:13-1097699@lwtriumphchurch.com
DTSTART:20261007T000000Z
DTEND:20261007T020000Z
CLASS:PUBLIC
CREATED:20260425T065459
DESCRIPTION:\nJoin us for an interactive bible study via Zoom every Tuesday
  at 7:00 PM!\n\n\nZoom ID: 988 730 2222\nPasscode: 111\n
LAST-MODIFIED:20260425T065459
LOCATION:Zoom 
SUMMARY:Virtual Bible Study/Institute on Zoom 
URL;VALUE=URI:https://www.lwtriumphchurch.com/events/virtual-bible-study-in
 stitute-on-zoom/2026-10-06
ATTACH;FILENAME=FkLLV.jpg;FMTTYPE=image/jpeg:https://dq5pwpg1q8ru0.cloudfro
 nt.net/2024/02/06/23/12/33/ccc82a26-ffa0-42ee-a13a-4564fd1f9011/FkLLV.jpg
END:VEVENT
END:VCALENDAR
